BEGIN:VCALENDAR
VERSION:2.0
PRODID:-//WNC District 80 - ECPv6.15.20//NONSGML v1.0//EN
CALSCALE:GREGORIAN
METHOD:PUBLISH
X-WR-CALNAME:WNC District 80
X-ORIGINAL-URL:https://aawnc80.com
X-WR-CALDESC:Events for WNC District 80
REFRESH-INTERVAL;VALUE=DURATION:PT1H
X-Robots-Tag:noindex
X-PUBLISHED-TTL:PT1H
BEGIN:VTIMEZONE
TZID:America/New_York
BEGIN:DAYLIGHT
TZOFFSETFROM:-0500
TZOFFSETTO:-0400
TZNAME:EDT
DTSTART:20250309T070000
END:DAYLIGHT
BEGIN:STANDARD
TZOFFSETFROM:-0400
TZOFFSETTO:-0500
TZNAME:EST
DTSTART:20251102T060000
END:STANDARD
BEGIN:DAYLIGHT
TZOFFSETFROM:-0500
TZOFFSETTO:-0400
TZNAME:EDT
DTSTART:20260308T070000
END:DAYLIGHT
BEGIN:STANDARD
TZOFFSETFROM:-0400
TZOFFSETTO:-0500
TZNAME:EST
DTSTART:20261101T060000
END:STANDARD
BEGIN:DAYLIGHT
TZOFFSETFROM:-0500
TZOFFSETTO:-0400
TZNAME:EDT
DTSTART:20270314T070000
END:DAYLIGHT
BEGIN:STANDARD
TZOFFSETFROM:-0400
TZOFFSETTO:-0500
TZNAME:EST
DTSTART:20271107T060000
END:STANDARD
END:VTIMEZONE
BEGIN:VEVENT
DTSTART;TZID=America/New_York:20260212T000000
DTEND;TZID=America/New_York:20260215T235959
DTSTAMP:20260423T193705
CREATED:20260202T195037Z
LAST-MODIFIED:20260202T195817Z
UID:717-1770854400-1771199999@aawnc80.com
SUMMARY:62nd International Women's Conference
DESCRIPTION:Just $20 USD to attend online.Includes 4 days of experience\,strength and hope – modemto modem! Sign up today.\n\n\n\nLocated in Des Moines\, Iowa
URL:https://aawnc80.com/event/62nd-international-womens-conference/
LOCATION:North Carolina
ATTACH;FMTTYPE=image/png:https://aawnc80.com/wp-content/uploads/2026/02/Flyer_02-12_IntlWomenConf.png
END:VEVENT
END:VCALENDAR