BEGIN:VCALENDAR
VERSION:2.0
PRODID:-//WNC District 80 - ECPv6.15.20//NONSGML v1.0//EN
CALSCALE:GREGORIAN
METHOD:PUBLISH
X-ORIGINAL-URL:https://aawnc80.com
X-WR-CALDESC:Events for WNC District 80
REFRESH-INTERVAL;VALUE=DURATION:PT1H
X-Robots-Tag:noindex
X-PUBLISHED-TTL:PT1H
BEGIN:VTIMEZONE
TZID:America/New_York
BEGIN:DAYLIGHT
TZOFFSETFROM:-0500
TZOFFSETTO:-0400
TZNAME:EDT
DTSTART:20250309T070000
END:DAYLIGHT
BEGIN:STANDARD
TZOFFSETFROM:-0400
TZOFFSETTO:-0500
TZNAME:EST
DTSTART:20251102T060000
END:STANDARD
BEGIN:DAYLIGHT
TZOFFSETFROM:-0500
TZOFFSETTO:-0400
TZNAME:EDT
DTSTART:20260308T070000
END:DAYLIGHT
BEGIN:STANDARD
TZOFFSETFROM:-0400
TZOFFSETTO:-0500
TZNAME:EST
DTSTART:20261101T060000
END:STANDARD
BEGIN:DAYLIGHT
TZOFFSETFROM:-0500
TZOFFSETTO:-0400
TZNAME:EDT
DTSTART:20270314T070000
END:DAYLIGHT
BEGIN:STANDARD
TZOFFSETFROM:-0400
TZOFFSETTO:-0500
TZNAME:EST
DTSTART:20271107T060000
END:STANDARD
END:VTIMEZONE
BEGIN:VEVENT
DTSTART;TZID=America/New_York:20260314T160000
DTEND;TZID=America/New_York:20260314T190000
DTSTAMP:20260423T182258
CREATED:20260202T201210Z
LAST-MODIFIED:20260202T201217Z
UID:723-1773504000-1773514800@aawnc80.com
SUMMARY:WNCCPAA "Pi Day Party"
DESCRIPTION:Pizza Party\, Pie-in-the-Face Auction\, Best Pie Bake Off…All for the benefit of the Young People’s Committee of WNC. The party is being held at Acton UMC\, 171 Sand Hill School Rd\, West Asheville\, NC Come join the fun!!!
URL:https://aawnc80.com/event/wnccpaa-pi-day-party/
LOCATION:North Carolina
ATTACH;FMTTYPE=image/png:https://aawnc80.com/wp-content/uploads/2026/02/pi-day.png
END:VEVENT
END:VCALENDAR