BEGIN:VCALENDAR
VERSION:2.0
PRODID:-//WNC District 80 - ECPv6.15.20//NONSGML v1.0//EN
CALSCALE:GREGORIAN
METHOD:PUBLISH
X-WR-CALNAME:WNC District 80
X-ORIGINAL-URL:https://aawnc80.com
X-WR-CALDESC:Events for WNC District 80
REFRESH-INTERVAL;VALUE=DURATION:PT1H
X-Robots-Tag:noindex
X-PUBLISHED-TTL:PT1H
BEGIN:VTIMEZONE
TZID:America/New_York
BEGIN:DAYLIGHT
TZOFFSETFROM:-0500
TZOFFSETTO:-0400
TZNAME:EDT
DTSTART:20250309T070000
END:DAYLIGHT
BEGIN:STANDARD
TZOFFSETFROM:-0400
TZOFFSETTO:-0500
TZNAME:EST
DTSTART:20251102T060000
END:STANDARD
BEGIN:DAYLIGHT
TZOFFSETFROM:-0500
TZOFFSETTO:-0400
TZNAME:EDT
DTSTART:20260308T070000
END:DAYLIGHT
BEGIN:STANDARD
TZOFFSETFROM:-0400
TZOFFSETTO:-0500
TZNAME:EST
DTSTART:20261101T060000
END:STANDARD
BEGIN:DAYLIGHT
TZOFFSETFROM:-0500
TZOFFSETTO:-0400
TZNAME:EDT
DTSTART:20270314T070000
END:DAYLIGHT
BEGIN:STANDARD
TZOFFSETFROM:-0400
TZOFFSETTO:-0500
TZNAME:EST
DTSTART:20271107T060000
END:STANDARD
END:VTIMEZONE
BEGIN:VEVENT
DTSTART;TZID=America/New_York:20260320T140000
DTEND;TZID=America/New_York:20260322T120000
DTSTAMP:20260423T181821
CREATED:20260117T180713Z
LAST-MODIFIED:20260117T180927Z
UID:211-1774015200-1774180800@aawnc80.com
SUMMARY:37th Freedom From Bondage
DESCRIPTION:Speakers\, The Annual Area 51 Corrections Conference. Speakers\, Panels\, Fellowship
URL:https://aawnc80.com/event/37th-freedom-from-bondage/
LOCATION:Hampton Inn & Suites\, 200 Columbus Drive\, Aberdeen\, North Carolina\, 28315
ATTACH;FMTTYPE=image/png:https://aawnc80.com/wp-content/uploads/2026/01/Freedom.png
END:VEVENT
END:VCALENDAR