BEGIN:VCALENDAR
VERSION:2.0
PRODID:-//WNC District 80 - ECPv6.15.20//NONSGML v1.0//EN
CALSCALE:GREGORIAN
METHOD:PUBLISH
X-WR-CALNAME:WNC District 80
X-ORIGINAL-URL:https://aawnc80.com
X-WR-CALDESC:Events for WNC District 80
REFRESH-INTERVAL;VALUE=DURATION:PT1H
X-Robots-Tag:noindex
X-PUBLISHED-TTL:PT1H
BEGIN:VTIMEZONE
TZID:America/New_York
BEGIN:DAYLIGHT
TZOFFSETFROM:-0500
TZOFFSETTO:-0400
TZNAME:EDT
DTSTART:20250309T070000
END:DAYLIGHT
BEGIN:STANDARD
TZOFFSETFROM:-0400
TZOFFSETTO:-0500
TZNAME:EST
DTSTART:20251102T060000
END:STANDARD
BEGIN:DAYLIGHT
TZOFFSETFROM:-0500
TZOFFSETTO:-0400
TZNAME:EDT
DTSTART:20260308T070000
END:DAYLIGHT
BEGIN:STANDARD
TZOFFSETFROM:-0400
TZOFFSETTO:-0500
TZNAME:EST
DTSTART:20261101T060000
END:STANDARD
BEGIN:DAYLIGHT
TZOFFSETFROM:-0500
TZOFFSETTO:-0400
TZNAME:EDT
DTSTART:20270314T070000
END:DAYLIGHT
BEGIN:STANDARD
TZOFFSETFROM:-0400
TZOFFSETTO:-0500
TZNAME:EST
DTSTART:20271107T060000
END:STANDARD
END:VTIMEZONE
BEGIN:VEVENT
DTSTART;TZID=America/New_York:20260409T190000
DTEND;TZID=America/New_York:20260409T210000
DTSTAMP:20260423T164814
CREATED:20260205T002631Z
LAST-MODIFIED:20260205T004946Z
UID:751-1775761200-1775768400@aawnc80.com
SUMMARY:Area 51 Virtual Pre-Conference
DESCRIPTION:This event is for EVERY AA Member! Meet the Area 51 Delegate and express your opinion about the topics that will be discussed at the AAWS Conference in NYC. If you care about Alcoholics Anonymous then you need to attend.\n\n\n\nMeeting ID: 831 9396 1415
URL:https://aawnc80.com/event/area-51-virtual-pre-conference/
LOCATION:North Carolina
ATTACH;FMTTYPE=image/jpeg:https://aawnc80.com/wp-content/uploads/2026/02/devices-2.jpg
END:VEVENT
END:VCALENDAR