BEGIN:VCALENDAR
VERSION:2.0
PRODID:-//WNC District 80 - ECPv6.15.20//NONSGML v1.0//EN
CALSCALE:GREGORIAN
METHOD:PUBLISH
X-WR-CALNAME:WNC District 80
X-ORIGINAL-URL:https://aawnc80.com
X-WR-CALDESC:Events for WNC District 80
REFRESH-INTERVAL;VALUE=DURATION:PT1H
X-Robots-Tag:noindex
X-PUBLISHED-TTL:PT1H
BEGIN:VTIMEZONE
TZID:America/New_York
BEGIN:DAYLIGHT
TZOFFSETFROM:-0500
TZOFFSETTO:-0400
TZNAME:EDT
DTSTART:20250309T070000
END:DAYLIGHT
BEGIN:STANDARD
TZOFFSETFROM:-0400
TZOFFSETTO:-0500
TZNAME:EST
DTSTART:20251102T060000
END:STANDARD
BEGIN:DAYLIGHT
TZOFFSETFROM:-0500
TZOFFSETTO:-0400
TZNAME:EDT
DTSTART:20260308T070000
END:DAYLIGHT
BEGIN:STANDARD
TZOFFSETFROM:-0400
TZOFFSETTO:-0500
TZNAME:EST
DTSTART:20261101T060000
END:STANDARD
BEGIN:DAYLIGHT
TZOFFSETFROM:-0500
TZOFFSETTO:-0400
TZNAME:EDT
DTSTART:20270314T070000
END:DAYLIGHT
BEGIN:STANDARD
TZOFFSETFROM:-0400
TZOFFSETTO:-0500
TZNAME:EST
DTSTART:20271107T060000
END:STANDARD
END:VTIMEZONE
BEGIN:VEVENT
DTSTART;TZID=America/New_York:20260525T133000
DTEND;TZID=America/New_York:20260525T180000
DTSTAMP:20260423T151523
CREATED:20260420T203131Z
LAST-MODIFIED:20260420T203138Z
UID:1341-1779715800-1779732000@aawnc80.com
SUMMARY:Memorial Day BBQ
DESCRIPTION:AVL 12 Step Club is hosting a Memorial Day BBQ. Food\, Fun & Fellowship! Please bring your family and friends\, also a side dish or dessert to share.
URL:https://aawnc80.com/event/memorial-day-bbq/
LOCATION:AVL 12 Step Club\, 1 Kenilworth Knoll\, Asheville\, North Carolina
ATTACH;FMTTYPE=image/png:https://aawnc80.com/wp-content/uploads/2026/04/Flyer_05-25_12-Step-MemDayCookout.png
END:VEVENT
END:VCALENDAR