BEGIN:VCALENDAR
VERSION:2.0
PRODID:-//WNC District 80 - ECPv6.15.20//NONSGML v1.0//EN
CALSCALE:GREGORIAN
METHOD:PUBLISH
X-ORIGINAL-URL:https://aawnc80.com
X-WR-CALDESC:Events for WNC District 80
REFRESH-INTERVAL;VALUE=DURATION:PT1H
X-Robots-Tag:noindex
X-PUBLISHED-TTL:PT1H
BEGIN:VTIMEZONE
TZID:America/New_York
BEGIN:DAYLIGHT
TZOFFSETFROM:-0500
TZOFFSETTO:-0400
TZNAME:EDT
DTSTART:20250309T070000
END:DAYLIGHT
BEGIN:STANDARD
TZOFFSETFROM:-0400
TZOFFSETTO:-0500
TZNAME:EST
DTSTART:20251102T060000
END:STANDARD
BEGIN:DAYLIGHT
TZOFFSETFROM:-0500
TZOFFSETTO:-0400
TZNAME:EDT
DTSTART:20260308T070000
END:DAYLIGHT
BEGIN:STANDARD
TZOFFSETFROM:-0400
TZOFFSETTO:-0500
TZNAME:EST
DTSTART:20261101T060000
END:STANDARD
BEGIN:DAYLIGHT
TZOFFSETFROM:-0500
TZOFFSETTO:-0400
TZNAME:EDT
DTSTART:20270314T070000
END:DAYLIGHT
BEGIN:STANDARD
TZOFFSETFROM:-0400
TZOFFSETTO:-0500
TZNAME:EST
DTSTART:20271107T060000
END:STANDARD
END:VTIMEZONE
BEGIN:VEVENT
DTSTART;TZID=America/New_York:20260613T113000
DTEND;TZID=America/New_York:20260613T150000
DTSTAMP:20260423T165044
CREATED:20260117T183405Z
LAST-MODIFIED:20260117T183410Z
UID:218-1781350200-1781362800@aawnc80.com
SUMMARY:Dist 80 - Founder's Day
DESCRIPTION:Food\, Fun & Fellowship as we celebrate AA’s Birthday. Special speaker Selina J from Georgia at 1pm. Raffle at 2:15 (be there to win)Come join the fun and enjoy celebrating our sobriety!
URL:https://aawnc80.com/event/dist-80-founders-day/
LOCATION:First Presbyterian Church\, 26 Church St\, Franklin\, North Carolina\, 28734
ATTACH;FMTTYPE=image/png:https://aawnc80.com/wp-content/uploads/2026/01/District_80_Founders_Day_Fyler-1-scaled.png
END:VEVENT
END:VCALENDAR