BEGIN:VCALENDAR
VERSION:2.0
PRODID:-//WNC District 80 - ECPv6.15.20//NONSGML v1.0//EN
CALSCALE:GREGORIAN
METHOD:PUBLISH
X-WR-CALNAME:WNC District 80
X-ORIGINAL-URL:https://aawnc80.com
X-WR-CALDESC:Events for WNC District 80
REFRESH-INTERVAL;VALUE=DURATION:PT1H
X-Robots-Tag:noindex
X-PUBLISHED-TTL:PT1H
BEGIN:VTIMEZONE
TZID:America/New_York
BEGIN:DAYLIGHT
TZOFFSETFROM:-0500
TZOFFSETTO:-0400
TZNAME:EDT
DTSTART:20250309T070000
END:DAYLIGHT
BEGIN:STANDARD
TZOFFSETFROM:-0400
TZOFFSETTO:-0500
TZNAME:EST
DTSTART:20251102T060000
END:STANDARD
BEGIN:DAYLIGHT
TZOFFSETFROM:-0500
TZOFFSETTO:-0400
TZNAME:EDT
DTSTART:20260308T070000
END:DAYLIGHT
BEGIN:STANDARD
TZOFFSETFROM:-0400
TZOFFSETTO:-0500
TZNAME:EST
DTSTART:20261101T060000
END:STANDARD
BEGIN:DAYLIGHT
TZOFFSETFROM:-0500
TZOFFSETTO:-0400
TZNAME:EDT
DTSTART:20270314T070000
END:DAYLIGHT
BEGIN:STANDARD
TZOFFSETFROM:-0400
TZOFFSETTO:-0500
TZNAME:EST
DTSTART:20271107T060000
END:STANDARD
END:VTIMEZONE
BEGIN:VEVENT
DTSTART;TZID=America/New_York:20261001T080000
DTEND;TZID=America/New_York:20261004T170000
DTSTAMP:20260423T193541
CREATED:20260412T213255Z
LAST-MODIFIED:20260412T213723Z
UID:1291-1790841600-1791133200@aawnc80.com
SUMMARY:Rensselaer South Men's Retreat
DESCRIPTION:Enjoy a retreat in beautiful Western NC. Price includes lodging and meals. See flyer for complete details.
URL:https://aawnc80.com/event/rensselaer-south-mens-retreat/
LOCATION:Hinton Retreat Center\, 2330 Hinton Center Rd\, Hayesville\, North Carolina\, 28904
ATTACH;FMTTYPE=image/png:https://aawnc80.com/wp-content/uploads/2026/04/Rensselaer-2026-1.png
END:VEVENT
BEGIN:VEVENT
DTSTART;TZID=America/New_York:20261018T080000
DTEND;TZID=America/New_York:20261018T120000
DTSTAMP:20260423T193541
CREATED:20260414T010623Z
LAST-MODIFIED:20260414T010937Z
UID:1314-1792310400-1792324800@aawnc80.com
SUMMARY:73rd Georgia Prepaid Convention
DESCRIPTION:“Humility in Action”. Speakers\, meetings\, fellowship & fun.
URL:https://aawnc80.com/event/73rd-georgia-prepaid-convention/
LOCATION:Sonesta Gwinnett Place\, 1776 Pleasant Hill Rd\, Duluth\, Georgia\, 80096
ATTACH;FMTTYPE=image/png:https://aawnc80.com/wp-content/uploads/2026/04/Georgia-Convention-1-scaled.png
END:VEVENT
END:VCALENDAR