BEGIN:VCALENDAR
VERSION:2.0
PRODID:-//WNC District 80 - ECPv6.15.20//NONSGML v1.0//EN
CALSCALE:GREGORIAN
METHOD:PUBLISH
X-ORIGINAL-URL:https://aawnc80.com
X-WR-CALDESC:Events for WNC District 80
REFRESH-INTERVAL;VALUE=DURATION:PT1H
X-Robots-Tag:noindex
X-PUBLISHED-TTL:PT1H
BEGIN:VTIMEZONE
TZID:America/New_York
BEGIN:DAYLIGHT
TZOFFSETFROM:-0500
TZOFFSETTO:-0400
TZNAME:EDT
DTSTART:20250309T070000
END:DAYLIGHT
BEGIN:STANDARD
TZOFFSETFROM:-0400
TZOFFSETTO:-0500
TZNAME:EST
DTSTART:20251102T060000
END:STANDARD
BEGIN:DAYLIGHT
TZOFFSETFROM:-0500
TZOFFSETTO:-0400
TZNAME:EDT
DTSTART:20260308T070000
END:DAYLIGHT
BEGIN:STANDARD
TZOFFSETFROM:-0400
TZOFFSETTO:-0500
TZNAME:EST
DTSTART:20261101T060000
END:STANDARD
BEGIN:DAYLIGHT
TZOFFSETFROM:-0500
TZOFFSETTO:-0400
TZNAME:EDT
DTSTART:20270314T070000
END:DAYLIGHT
BEGIN:STANDARD
TZOFFSETFROM:-0400
TZOFFSETTO:-0500
TZNAME:EST
DTSTART:20271107T060000
END:STANDARD
END:VTIMEZONE
BEGIN:VEVENT
DTSTART;TZID=America/New_York:20260507T160000
DTEND;TZID=America/New_York:20260510T120000
DTSTAMP:20260423T135110
CREATED:20260407T001909Z
LAST-MODIFIED:20260407T201303Z
UID:1242-1778169600-1778414400@aawnc80.com
SUMMARY:Fireside Sobriety Circle Campout
DESCRIPTION:AA/NA/Al-anon Speakers; Talking Circles; Native Teachings; Meetings; Sobriety Pow-Wow; Sobriety Countdown and Much Much More. No Pets.
URL:https://aawnc80.com/event/fireside-sobriety-circle-campout/
LOCATION:Yogi in the Smokies Campground\, Big Cove Rd\, Cherokee\, North Carolina\, United States
ATTACH;FMTTYPE=image/png:https://aawnc80.com/wp-content/uploads/2026/04/Firesude-Sobriety-Campout-1.png
END:VEVENT
BEGIN:VEVENT
DTSTART;TZID=America/New_York:20260515T140000
DTEND;TZID=America/New_York:20260517T120000
DTSTAMP:20260423T135110
CREATED:20260117T182127Z
LAST-MODIFIED:20260207T210346Z
UID:215-1778853600-1779019200@aawnc80.com
SUMMARY:Area 51 Spring Committee & Assembly Meeting
DESCRIPTION:ATTENTION ALL GSRs….This is the place where you can represent your group at the Area Level. This is where you get to express your groups voice\, to vote on important issues and support your District 80 DCM. All AA members are invited to attend\, though only GSRs can vote. Please plan to be part of this important event!!
URL:https://aawnc80.com/event/area-51-spring-committee-assembly-meeting/
LOCATION:Lake Junaluska Conference & Retreat Center\, 91 North Lakeshore Drive\, Lake Junaluska\, North Carolina\, 28745
ATTACH;FMTTYPE=image/png:https://aawnc80.com/wp-content/uploads/2026/01/AA51-Cute-Alien-Sitting-On-Ufo-Drink-Hot-Coffee-Cup-wider.png
END:VEVENT
BEGIN:VEVENT
DTSTART;TZID=America/New_York:20260522T150000
DTEND;TZID=America/New_York:20260524T120000
DTSTAMP:20260423T135110
CREATED:20260407T010138Z
LAST-MODIFIED:20260407T011927Z
UID:1253-1779462000-1779624000@aawnc80.com
SUMMARY:Appalachian Regional Roundup
DESCRIPTION:“Keys to the Kingdom” featuring ten speakers from around the country.
URL:https://aawnc80.com/event/1253/
LOCATION:Meadowview Conference Resort & Convention Center\, 1901 Meadowview Parkway\, Kingsport\, Tennessee\, 37660\, United States
ATTACH;FMTTYPE=image/png:https://aawnc80.com/wp-content/uploads/2026/04/Appalachian-Roundup.png
END:VEVENT
BEGIN:VEVENT
DTSTART;TZID=America/New_York:20260525T133000
DTEND;TZID=America/New_York:20260525T180000
DTSTAMP:20260423T135110
CREATED:20260420T203131Z
LAST-MODIFIED:20260420T203138Z
UID:1341-1779715800-1779732000@aawnc80.com
SUMMARY:Memorial Day BBQ
DESCRIPTION:AVL 12 Step Club is hosting a Memorial Day BBQ. Food\, Fun & Fellowship! Please bring your family and friends\, also a side dish or dessert to share.
URL:https://aawnc80.com/event/memorial-day-bbq/
LOCATION:AVL 12 Step Club\, 1 Kenilworth Knoll\, Asheville\, North Carolina
ATTACH;FMTTYPE=image/png:https://aawnc80.com/wp-content/uploads/2026/04/Flyer_05-25_12-Step-MemDayCookout.png
END:VEVENT
BEGIN:VEVENT
DTSTART;TZID=America/New_York:20260529T190000
DTEND;TZID=America/New_York:20260531T120000
DTSTAMP:20260423T135110
CREATED:20260205T011553Z
LAST-MODIFIED:20260407T012434Z
UID:763-1780081200-1780228800@aawnc80.com
SUMMARY:Girlstock International
DESCRIPTION:“Trust God and Clean House” – Nine different speakers – all 12 steps. Pets allowed. See flyer for details & contcts.
URL:https://aawnc80.com/event/girlstock-international/
LOCATION:Hilton Atlanta Airport\, 1031 Virginia Ave\, Atlanta\, Georgia\, 30354\, United States
ATTACH;FMTTYPE=image/png:https://aawnc80.com/wp-content/uploads/2026/02/Girlstock-flyer.png
END:VEVENT
END:VCALENDAR