BEGIN:VCALENDAR
VERSION:2.0
PRODID:-//WNC District 80 - ECPv6.15.20//NONSGML v1.0//EN
CALSCALE:GREGORIAN
METHOD:PUBLISH
X-ORIGINAL-URL:https://aawnc80.com
X-WR-CALDESC:Events for WNC District 80
REFRESH-INTERVAL;VALUE=DURATION:PT1H
X-Robots-Tag:noindex
X-PUBLISHED-TTL:PT1H
BEGIN:VTIMEZONE
TZID:America/New_York
BEGIN:DAYLIGHT
TZOFFSETFROM:-0500
TZOFFSETTO:-0400
TZNAME:EDT
DTSTART:20250309T070000
END:DAYLIGHT
BEGIN:STANDARD
TZOFFSETFROM:-0400
TZOFFSETTO:-0500
TZNAME:EST
DTSTART:20251102T060000
END:STANDARD
BEGIN:DAYLIGHT
TZOFFSETFROM:-0500
TZOFFSETTO:-0400
TZNAME:EDT
DTSTART:20260308T070000
END:DAYLIGHT
BEGIN:STANDARD
TZOFFSETFROM:-0400
TZOFFSETTO:-0500
TZNAME:EST
DTSTART:20261101T060000
END:STANDARD
BEGIN:DAYLIGHT
TZOFFSETFROM:-0500
TZOFFSETTO:-0400
TZNAME:EDT
DTSTART:20270314T070000
END:DAYLIGHT
BEGIN:STANDARD
TZOFFSETFROM:-0400
TZOFFSETTO:-0500
TZNAME:EST
DTSTART:20271107T060000
END:STANDARD
END:VTIMEZONE
BEGIN:VEVENT
DTSTART;TZID=America/New_York:20260712T133000
DTEND;TZID=America/New_York:20260712T150000
DTSTAMP:20260423T165044
CREATED:20260412T205035Z
LAST-MODIFIED:20260412T205047Z
UID:1287-1783863000-1783868400@aawnc80.com
SUMMARY:District 80 Business Meeting
DESCRIPTION:Quarterly District 80 Business Meeting where the DCM presents Area 51 news; District Committee members give their reports and GSRs report on their groups. District business and events are planned and voted upon. Open to all interested AA members.
URL:https://aawnc80.com/event/district-80-business-meeting-2/
LOCATION:Western Carolina University\, A K Hinds University Center\, 245 Memorial Drive\, Cullowhee
ATTACH;FMTTYPE=image/jpeg:https://aawnc80.com/wp-content/uploads/2026/02/meeting-group.jpeg
END:VEVENT
BEGIN:VEVENT
DTSTART;TZID=America/New_York:20260716T160000
DTEND;TZID=America/New_York:20260719T120000
DTSTAMP:20260423T165044
CREATED:20260117T184531Z
LAST-MODIFIED:20260407T005102Z
UID:222-1784217600-1784462400@aawnc80.com
SUMMARY:AA NC Convention
DESCRIPTION:North Carolina AA’s celebration! Speakers\, Meetings\, Service & Fellowship all set on the shores of beautiful Lake Junaluska that borders the Great Smoky Mountains. See the website for details: https://www.aancconvention.com/
URL:https://aawnc80.com/event/aa-nc-convention/
LOCATION:Lake Junaluska Conference & Retreat Center\, 91 North Lakeshore Drive\, Lake Junaluska\, North Carolina\, 28745
ATTACH;FMTTYPE=image/jpeg:https://aawnc80.com/wp-content/uploads/2026/04/2027-Convention-Flyer-page-001.jpg
END:VEVENT
END:VCALENDAR